BEGIN:VCALENDAR
VERSION:2.0
PRODID:-//Covalent Logic//Content Management System//EN
BEGIN:VEVENT
UID:1776603270091.COVALENTLOGIC.COM
DTSTART:20120328T050000Z
DTEND:20120328T050000Z
SUMMARY:Thurgood Marshall College Fund 12th Annual Leadership Institute & Recruitment Fair Deadline 
LOCATION:
DESCRIPTION:
PRIORITY:5
END:VEVENT
END:VCALENDAR