BEGIN:VCALENDAR
VERSION:2.0
PRODID:-//Covalent Logic//Content Management System//EN
BEGIN:VEVENT
UID:1776801984637.COVALENTLOGIC.COM
DTSTART:20210707T050000Z
DTEND:20210708T045959Z
SUMMARY:Mid-Semester Grades Due
LOCATION:
DESCRIPTION:
PRIORITY:5
END:VEVENT
END:VCALENDAR