BEGIN:VCALENDAR
VERSION:2.0
PRODID:-//Covalent Logic//Content Management System//EN
BEGIN:VEVENT
UID:1776771861764.COVALENTLOGIC.COM
DTSTART:20220808T050000Z
DTEND:20220809T045959Z
SUMMARY:Fall 2022 Faculty Reports
LOCATION:
DESCRIPTION:
PRIORITY:5
END:VEVENT
END:VCALENDAR