BEGIN:VCALENDAR
VERSION:2.0
PRODID:-//Covalent Logic//Content Management System//EN
BEGIN:VEVENT
UID:1776615560364.COVALENTLOGIC.COM
DTSTART:20220815T050000Z
DTEND:20220816T045959Z
SUMMARY:Fall 2022 Add/Drop Period Begins
LOCATION:
DESCRIPTION:
PRIORITY:5
END:VEVENT
END:VCALENDAR